BEGIN:VCALENDAR
VERSION:2.0
PRODID:-//Fairfield County&#039;s Community Foundation - ECPv6.15.3//NONSGML v1.0//EN
CALSCALE:GREGORIAN
METHOD:PUBLISH
X-WR-CALNAME:Fairfield County&#039;s Community Foundation
X-ORIGINAL-URL:https://fccfoundation.org
X-WR-CALDESC:Events for Fairfield County&#039;s Community Foundation
REFRESH-INTERVAL;VALUE=DURATION:PT1H
X-Robots-Tag:noindex
X-PUBLISHED-TTL:PT1H
BEGIN:VTIMEZONE
TZID:America/New_York
BEGIN:DAYLIGHT
TZOFFSETFROM:-0500
TZOFFSETTO:-0400
TZNAME:EDT
DTSTART:20230312T070000
END:DAYLIGHT
BEGIN:STANDARD
TZOFFSETFROM:-0400
TZOFFSETTO:-0500
TZNAME:EST
DTSTART:20231105T060000
END:STANDARD
END:VTIMEZONE
BEGIN:VEVENT
DTSTART;TZID=America/New_York:20231109T180000
DTEND;TZID=America/New_York:20231109T200000
DTSTAMP:20260423T082500
CREATED:20231002T144541Z
LAST-MODIFIED:20231002T153500Z
UID:10000510-1699552800-1699560000@fccfoundation.org
SUMMARY:Leaders of Color Networking Night – Hub & Spoke
DESCRIPTION:We believe that by coming together\, we can amplify our collective impact and further the causes we hold dear. To that end\, we are excited to continue our Leaders of Color Networking Nights! Kick off your holiday season a bit early and join us for food and drinks. This event promises to be an evening of meaningful connections\, inspiring conversations\, and a celebration of the work you’re doing in our community. \nRegister Now
URL:https://fccfoundation.org/event/leaders-of-color-networking-night-hub-spoke/
LOCATION:Hub and Spoke\, 3001 Fairfield Ave\, Bridgeport\, CT\, 06605\, United States
CATEGORIES:Center for Nonprofit Excellence
ATTACH;FMTTYPE=image/png:https://fccfoundation.org/wp-content/uploads/2023/10/Unite-event-w-CNE-Header.png
END:VEVENT
END:VCALENDAR