BEGIN:VCALENDAR
VERSION:2.0
PRODID:-//Fairfield County&#039;s Community Foundation - ECPv6.15.3//NONSGML v1.0//EN
CALSCALE:GREGORIAN
METHOD:PUBLISH
X-ORIGINAL-URL:https://fccfoundation.org
X-WR-CALDESC:Events for Fairfield County&#039;s Community Foundation
REFRESH-INTERVAL;VALUE=DURATION:PT1H
X-Robots-Tag:noindex
X-PUBLISHED-TTL:PT1H
BEGIN:VTIMEZONE
TZID:America/New_York
BEGIN:DAYLIGHT
TZOFFSETFROM:-0500
TZOFFSETTO:-0400
TZNAME:EDT
DTSTART:20240310T070000
END:DAYLIGHT
BEGIN:STANDARD
TZOFFSETFROM:-0400
TZOFFSETTO:-0500
TZNAME:EST
DTSTART:20241103T060000
END:STANDARD
END:VTIMEZONE
BEGIN:VEVENT
DTSTART;TZID=America/New_York:20240516T183000
DTEND;TZID=America/New_York:20240516T203000
DTSTAMP:20260422T101214
CREATED:20240408T152637Z
LAST-MODIFIED:20240410T154637Z
UID:10000529-1715884200-1715891400@fccfoundation.org
SUMMARY:Leaders of Color Networking Night at Downtown Cabaret Theatre
DESCRIPTION:Come and be a part of something special at our next Leaders of Color Networking Night event! We’re thrilled to gather with you to celebrate the launch of our Greater Bridgeport grant opportunity\, Arts in the Service of Equity. \nThis evening is all about forging meaningful connections\, drawing inspiration\, and celebrating the incredible synergy between nonprofit professionals and local artists who are enriching our community with their talent\, passion\, and creativity. Mingle with like-minded individuals as you discover new opportunities\, exchange insights\, and build relationships that can truly make a difference. \nThis networking event runs from 6:30 to 8:30 pm at Downtown Cabaret Theater\, 263 Golden Hill St #3\, in Bridgeport. Food and drink will be served. Tickets are free\, but please reserve your seat in advance! \nWe welcome leaders and artists of all backgrounds. Join us in showing solidarity and support for our colleagues\, staff\, and friends. \nRegister Now
URL:https://fccfoundation.org/event/leaders-of-color-networking-night-at-downtown-cabaret-theatre/
LOCATION:Downtown Cabaret Theater\, 263 Golden Hill Street #3\, Bridgeport\, CT\, 06604\, United States
CATEGORIES:Center for Nonprofit Excellence
ATTACH;FMTTYPE=image/png:https://fccfoundation.org/wp-content/uploads/2024/04/UNITE-Event-May-2024.png
END:VEVENT
END:VCALENDAR