BEGIN:VCALENDAR
VERSION:2.0
PRODID:-//Fairfield County&#039;s Community Foundation - ECPv6.15.3//NONSGML v1.0//EN
CALSCALE:GREGORIAN
METHOD:PUBLISH
X-ORIGINAL-URL:https://fccfoundation.org
X-WR-CALDESC:Events for Fairfield County&#039;s Community Foundation
REFRESH-INTERVAL;VALUE=DURATION:PT1H
X-Robots-Tag:noindex
X-PUBLISHED-TTL:PT1H
BEGIN:VTIMEZONE
TZID:America/New_York
BEGIN:DAYLIGHT
TZOFFSETFROM:-0500
TZOFFSETTO:-0400
TZNAME:EDT
DTSTART:20250309T070000
END:DAYLIGHT
BEGIN:STANDARD
TZOFFSETFROM:-0400
TZOFFSETTO:-0500
TZNAME:EST
DTSTART:20251102T060000
END:STANDARD
END:VTIMEZONE
BEGIN:VEVENT
DTSTART;TZID=America/New_York:20250506T180000
DTEND;TZID=America/New_York:20250506T180000
DTSTAMP:20260419T083749
CREATED:20250307T161144Z
LAST-MODIFIED:20250310T140348Z
UID:10000574-1746554400-1746554400@fccfoundation.org
SUMMARY:SAVE THE DATE - The Time is Now: Women Charting the Path Ahead
DESCRIPTION:Local venue & speakers to be announced soon. \nHave a question or want to know more about sponsorship for you and a group of friends or colleagues? Email info@fccfoundation.org
URL:https://fccfoundation.org/event/save-the-date-the-time-is-now-women-charting-the-path-ahead/
CATEGORIES:Fund for Women & Girls
ATTACH;FMTTYPE=image/jpeg:https://fccfoundation.org/wp-content/uploads/2025/03/FWG-Time-Is-Now-Event-2.jpg
END:VEVENT
BEGIN:VEVENT
DTSTART;TZID=America/New_York:20250508T090000
DTEND;TZID=America/New_York:20250508T113000
DTSTAMP:20260419T083749
CREATED:20250206T171748Z
LAST-MODIFIED:20250206T174611Z
UID:10000566-1746694800-1746703800@fccfoundation.org
SUMMARY:SOUP TO NUTS: DASHBOARD CREATION FOR IMPROVED PERFORMANCE TRACKING
DESCRIPTION:May 8\, 9:00 – 11:30 AM (Virtual) \nJoin us for Soup to Nuts: Fundamentals of Nonprofit Management\, a free 8-part virtual series presented in collaboration with United Way of Coastal and Western Connecticut. Sessions are held on the second Thursday of each month and offer an opportunity to learn and grow together in the nonprofit field.\n*No April meeting to account for common school Spring break. \nJoin Diane Winston of Winston Strategic Partners—back by popular demand and fresh from our ASCEND series—for another dynamic session! Continue building your professionalism and communication skills with a focus on two essential areas for successful collaboration: difficult conversations and conflict resolution. Don’t miss this opportunity to level up your expertise! \nREGISTER NOW
URL:https://fccfoundation.org/event/soup-to-nuts-dashboard-creation-for-improved-performance-tracking/
LOCATION:Webinar
CATEGORIES:Center for Nonprofit Excellence
ATTACH;FMTTYPE=image/png:https://fccfoundation.org/wp-content/uploads/2025/02/Event-Alt-4.png
END:VEVENT
BEGIN:VEVENT
DTSTART;TZID=America/New_York:20250514T100000
DTEND;TZID=America/New_York:20250514T120000
DTSTAMP:20260419T083749
CREATED:20250206T172016Z
LAST-MODIFIED:20250505T144709Z
UID:10000567-1747216800-1747224000@fccfoundation.org
SUMMARY:FOUNDATIONS OF PARTNERSHIP: Identifying Common Goals with FCCF Staff
DESCRIPTION:May 14\, 10:00 AM – 12:00 PM (Virtual) \nFoundations of Partnership is a three-part series designed to help participants build a collaborative mindset\, embrace new partnerships\, and develop the soft skills needed for success. Participants will explore the principles that foster collaboration\, focusing on: \n\nCommunication\nTrust\, and respect\,\nLearn how to identify shared goals\nEngage with potential partners to create meaningful connections\nStrengthen key interpersonal skills like active listening\, empathy\, and conflict resolution\n\nThis series provides practical tools and strategies for creating lasting and effective collaborations. \nSuccessful organizations are built on a foundation of health and resilience\, where leaders empower their teams to overcome obstacles\, foster commitment and enthusiasm\, and uncover possibilities in every situation. Join our partners at Organizational Performance Group to explore the key indicators of Abundance Leadership®. Discover practical strategies to shift your organization from scarcity to abundance and from competition to collaboration. \nREGISTER NOW
URL:https://fccfoundation.org/event/foundations-of-partnership-identifying-common-goals-with-fccf-staff/
LOCATION:Webinar
CATEGORIES:Center for Nonprofit Excellence
ATTACH;FMTTYPE=image/png:https://fccfoundation.org/wp-content/uploads/2025/02/Event-Alt-4.png
END:VEVENT
BEGIN:VEVENT
DTSTART;TZID=America/New_York:20250530T103000
DTEND;TZID=America/New_York:20250530T123000
DTSTAMP:20260419T083749
CREATED:20250206T172622Z
LAST-MODIFIED:20250206T175046Z
UID:10000568-1748601000-1748608200@fccfoundation.org
SUMMARY:Imagination as Strategy for Leaders of Color
DESCRIPTION:May 30\, 10:30 AM – 12:30 AM (Virtual) \nJoin Kristiana Smith for an interactive virtual convening designed to help you reconnect with your creative side. Take a step away from the day-to-day hustle and indulge in self-discovery to foster innovative ideas\, enhance problem-solving skills\, and cultivate broad-mindedness for both your personal and professional well-being.\nLearn more about Kristiana’s work at: https://www.kristiannasmith.com/ \nREGISTER NOW
URL:https://fccfoundation.org/event/imagination-as-strategy-for-leaders-of-color/
LOCATION:Webinar
CATEGORIES:Center for Nonprofit Excellence
ATTACH;FMTTYPE=image/png:https://fccfoundation.org/wp-content/uploads/2025/02/Event-Alt-4.png
END:VEVENT
END:VCALENDAR