BEGIN:VCALENDAR
VERSION:2.0
PRODID:-//Fairfield County&#039;s Community Foundation - ECPv6.15.3//NONSGML v1.0//EN
CALSCALE:GREGORIAN
METHOD:PUBLISH
X-ORIGINAL-URL:https://fccfoundation.org
X-WR-CALDESC:Events for Fairfield County&#039;s Community Foundation
REFRESH-INTERVAL;VALUE=DURATION:PT1H
X-Robots-Tag:noindex
X-PUBLISHED-TTL:PT1H
BEGIN:VTIMEZONE
TZID:America/New_York
BEGIN:DAYLIGHT
TZOFFSETFROM:-0500
TZOFFSETTO:-0400
TZNAME:EDT
DTSTART:20250309T070000
END:DAYLIGHT
BEGIN:STANDARD
TZOFFSETFROM:-0400
TZOFFSETTO:-0500
TZNAME:EST
DTSTART:20251102T060000
END:STANDARD
BEGIN:DAYLIGHT
TZOFFSETFROM:-0500
TZOFFSETTO:-0400
TZNAME:EDT
DTSTART:20260308T070000
END:DAYLIGHT
BEGIN:STANDARD
TZOFFSETFROM:-0400
TZOFFSETTO:-0500
TZNAME:EST
DTSTART:20261101T060000
END:STANDARD
END:VTIMEZONE
BEGIN:VEVENT
DTSTART;TZID=America/New_York:20260422T160000
DTEND;TZID=America/New_York:20260422T170000
DTSTAMP:20260424T092142
CREATED:20260224T190246Z
LAST-MODIFIED:20260224T190316Z
UID:10000595-1776873600-1776877200@fccfoundation.org
SUMMARY:Community of Practice: Board Members
DESCRIPTION:Following the success of our Communities of Practice for New Executive Directors\, Programming Professionals\, Fundraising & Development\, and Data leaders\, we are launching a peer group specifically for Board Members. This group will focus on skill-building\, connection\, and supportive peer learning. The first session will include an icebreaker\, facilitated conversation\, and collaborative planning to shape future session topics and structure. Board Members of all backgrounds are welcome to join and help co-create this community. \nRegister Now
URL:https://fccfoundation.org/event/community-of-practice-board-members/
CATEGORIES:Center for Nonprofit Excellence
ATTACH;FMTTYPE=image/png:https://fccfoundation.org/wp-content/uploads/2026/02/COP-Board.png
END:VEVENT
BEGIN:VEVENT
DTSTART;TZID=America/New_York:20260421T110000
DTEND;TZID=America/New_York:20260421T123000
DTSTAMP:20260424T092142
CREATED:20260224T191357Z
LAST-MODIFIED:20260224T191357Z
UID:10000594-1776769200-1776774600@fccfoundation.org
SUMMARY:Strength in Strategy: From Challenge to Opportunity – Part 3 Strategic Partnerships\, Mergers & Shared Services
DESCRIPTION:This session reframes the concept of consolidation\, mergers\, and shared services as exciting opportunities for growth and sustainability. Mike Gifford will share strategies for nonprofits to pursue transformative partnerships that strengthen mission impact\, improve outcomes\, and increase organizational sustainability. Participants will explore case studies and practical approaches to leading courageous conversations within their organizations\, empowering boards and staff to embrace proactive strategies that address challenges and expand community impact. \nMike Gifford is a national nonprofit leader and consultant known for guiding organizations through mergers\, growth\, and strategic transformation to achieve stronger outcomes and reduce disparities. \nRegister Now
URL:https://fccfoundation.org/event/strength-in-strategy-from-challenge-to-opportunity-part-3/
CATEGORIES:Center for Nonprofit Excellence
ATTACH;FMTTYPE=image/png:https://fccfoundation.org/wp-content/uploads/2026/02/strength-in-strategy-part-3.png
END:VEVENT
BEGIN:VEVENT
DTSTART;TZID=America/New_York:20260401T133000
DTEND;TZID=America/New_York:20260401T160000
DTSTAMP:20260424T092142
CREATED:20260224T191608Z
LAST-MODIFIED:20260224T191608Z
UID:10000592-1775050200-1775059200@fccfoundation.org
SUMMARY:Strength in Strategy: From Challenge to Opportunity – Part 2 Offers & Needs Market (OANM)
DESCRIPTION:The nonprofit sector is famously tight on resources\, and many of us know this to be our reality. Yet\, we are rich in community. Join us for this Offers & Needs Market\, a guided session designed to create strategic connections across our nonprofit ecosystem. \nWe all have needs\, and we all have something to offer. Offers don’t have to be free — simply knowing what resources exist in our community is valuable. Whether you’re a consultant offering support services\, an organization with extra space\, or a leader providing mentorship\, this session invites us to collectively build a richer\, more connected nonprofit community. Participants will engage in interactive exercises to identify and share their resources\, uncover new opportunities\, and forge meaningful connections to strengthen the sector as a whole. \nFacilitated by Jason Fredlund \nDoors open at 1 PM\, light refreshments provided. \nRegister Now
URL:https://fccfoundation.org/event/strength-in-strategy-from-challenge-to-opportunity-part-2/
LOCATION:Wakeman Boys & Girls Club\, Simlow-Burroughs Clubhouse\, 2414 Fairfield Ave\, Bridgeport\, CT\, United States
CATEGORIES:Center for Nonprofit Excellence
ATTACH;FMTTYPE=image/png:https://fccfoundation.org/wp-content/uploads/2026/02/Strength-in-strategy-part-2.png
END:VEVENT
BEGIN:VEVENT
DTSTART;TZID=America/New_York:20260326T120000
DTEND;TZID=America/New_York:20260326T140000
DTSTAMP:20260424T092142
CREATED:20260224T191638Z
LAST-MODIFIED:20260317T151331Z
UID:10000591-1774526400-1774533600@fccfoundation.org
SUMMARY:Strength in Strategy: From Challenge to Opportunity – Part 1 Community Resiliency Training (CRM)
DESCRIPTION:In partnership with LifeBridge Community Services \nThe first session of our Spring series equips participants with tools to strengthen organizational and personal resilience. Using the Community Resiliency Model (CRM)\, participants will learn evidence-based strategies to manage trauma\, chronic stress\, and ongoing challenges in nonprofit work. This session is designed for staff at all levels\, providing practical skills to enhance well-being\, sustain performance under pressure\, and foster a resilient organizational culture. Attendees will leave with actionable techniques that can be applied immediately to their teams and programs\, laying the foundation for more proactive\, responsive leadership. \nRegister Now
URL:https://fccfoundation.org/event/strength-in-strategy-from-challenge-to-opportunity-part-1-community-resiliency-training-crm/
CATEGORIES:Center for Nonprofit Excellence
ATTACH;FMTTYPE=image/png:https://fccfoundation.org/wp-content/uploads/2026/02/strength-in-stragtegy-part-1.png
END:VEVENT
BEGIN:VEVENT
DTSTART;TZID=America/New_York:20260306T110000
DTEND;TZID=America/New_York:20260306T123000
DTSTAMP:20260424T092142
CREATED:20260223T195650Z
LAST-MODIFIED:20260223T195718Z
UID:10000590-1772794800-1772800200@fccfoundation.org
SUMMARY:Fueling Community – Sherwood Diner – Westport
DESCRIPTION:March 6\, 11:00 AM – 12:30 PM (In-Person) \nFueling Community is a casual\, relationship-centered gathering for nonprofit leaders to connect over coffee and conversation. With no formal agenda\, this event provides a relaxed environment to share what you’re working on\, exchange ideas\, and build meaningful peer connections across organizations. \nSpace is limited. Coffee and snacks are on us! \nRegister Now
URL:https://fccfoundation.org/event/fueling-community-sherwood-diner-westport/
LOCATION:Sherwood Diner\, 901 Post Rd E\, Westport\, CT\, 06880\, United States
CATEGORIES:Center for Nonprofit Excellence
ATTACH;FMTTYPE=image/png:https://fccfoundation.org/wp-content/uploads/2024/08/fueling-comm.png
END:VEVENT
BEGIN:VEVENT
DTSTART;TZID=America/New_York:20250924T173000
DTEND;TZID=America/New_York:20250924T183000
DTSTAMP:20260424T092142
CREATED:20250905T134523Z
LAST-MODIFIED:20250905T144539Z
UID:10000579-1758735000-1758738600@fccfoundation.org
SUMMARY:Brewing Community - Norwalk
DESCRIPTION:Brewing Community is a fresh twist on our popular Fueling Community coffee meetups only this time\, we’re raising a glass after hours. Now held quarterly\, these casual happy hour gatherings invite nonprofit professionals\, members of The Allies community\, friends\, and colleagues to come together for connection\, support\, and inspiration. \nWhether you’re looking to exchange ideas\, celebrate wins\, reflect on community needs\, or simply unwind with peers who support the work\, Brewing Community offers a welcoming space to focus on what matters most — our communities\, our missions\, and the impact we strive to make.
URL:https://fccfoundation.org/event/brewing-community-norwalk/
LOCATION:Spacecat Brewing Company\, 57 Chestnut St.\, Norwalk\, CT\, 06854\, United States
CATEGORIES:Center for Nonprofit Excellence
ATTACH;FMTTYPE=image/png:https://fccfoundation.org/wp-content/uploads/2025/09/Brewing-Community-Logo-Facebook-Ad.png
END:VEVENT
BEGIN:VEVENT
DTSTART;TZID=America/New_York:20250905T110000
DTEND;TZID=America/New_York:20250905T123000
DTSTAMP:20260424T092142
CREATED:20250825T200850Z
LAST-MODIFIED:20250826T163234Z
UID:10000578-1757070000-1757075400@fccfoundation.org
SUMMARY:Fueling Community – Last Drop Coffee Shop – Monroe\, CT
DESCRIPTION:September 5\, 11:00 AM – 12:30 PM (In-Person) \nJoin us in Monroe to connect with fellow nonprofit professionals\, share ideas\, and expand your network in a welcoming and collaborative atmosphere. Don’t miss this opportunity to build meaningful relationships and strengthen our community! As always\, coffee is on us.\n\nNo need to register\, just show up! We hope to see you there.
URL:https://fccfoundation.org/event/fueling-community-the-last-drop-monroe-ct/
LOCATION:Last Drop Coffee Shop\, 435 Main Street\, Monroe\, 06468\, United States
CATEGORIES:Center for Nonprofit Excellence
ATTACH;FMTTYPE=image/png:https://fccfoundation.org/wp-content/uploads/2024/08/fueling-comm.png
END:VEVENT
BEGIN:VEVENT
DTSTART;TZID=America/New_York:20250424T183000
DTEND;TZID=America/New_York:20250424T203000
DTSTAMP:20260424T092142
CREATED:20250415T200008Z
LAST-MODIFIED:20250415T200008Z
UID:10000575-1745519400-1745526600@fccfoundation.org
SUMMARY:POSTPONED—In Community Conversation featuring Layla Zaidane\, President & CEO of Future Caucus
DESCRIPTION:EVENT POSTPONED\nDue to unexpected circumstances\, our upcoming event has been postponed. We apologize for any inconvenience and will share the new date as soon as it is confirmed. \nIf you have not yet registered but would like to be notified when the new date is announced\, please email Carolina Arriaga\, Events & Marketing Manager\, at carriaga@fccfoundation.org and we’ll be sure to keep you in the loop. \nIf you’ve already registered\, no need to take any action—you’ll automatically be notified once the new date is announced.
URL:https://fccfoundation.org/event/postponed-in-community-conversation-featuring-layla-zaidane-president-ceo-of-future-caucus/
LOCATION:The Westport Library\, 20 Jesup Rd\, Westport\, CT\, 06880\, United States
CATEGORIES:Foundation Events
ATTACH;FMTTYPE=image/png:https://fccfoundation.org/wp-content/uploads/2025/04/Xaidane-postpone.png
END:VEVENT
END:VCALENDAR