BEGIN:VCALENDAR
VERSION:2.0
PRODID:-//Fairfield County&#039;s Community Foundation - ECPv6.15.3//NONSGML v1.0//EN
CALSCALE:GREGORIAN
METHOD:PUBLISH
X-ORIGINAL-URL:https://fccfoundation.org
X-WR-CALDESC:Events for Fairfield County&#039;s Community Foundation
REFRESH-INTERVAL;VALUE=DURATION:PT1H
X-Robots-Tag:noindex
X-PUBLISHED-TTL:PT1H
BEGIN:VTIMEZONE
TZID:America/New_York
BEGIN:DAYLIGHT
TZOFFSETFROM:-0500
TZOFFSETTO:-0400
TZNAME:EDT
DTSTART:20260308T070000
END:DAYLIGHT
BEGIN:STANDARD
TZOFFSETFROM:-0400
TZOFFSETTO:-0500
TZNAME:EST
DTSTART:20261101T060000
END:STANDARD
END:VTIMEZONE
BEGIN:VEVENT
DTSTART;TZID=America/New_York:20260422T160000
DTEND;TZID=America/New_York:20260422T170000
DTSTAMP:20260422T065603
CREATED:20260224T190246Z
LAST-MODIFIED:20260224T190316Z
UID:10000595-1776873600-1776877200@fccfoundation.org
SUMMARY:Community of Practice: Board Members
DESCRIPTION:Following the success of our Communities of Practice for New Executive Directors\, Programming Professionals\, Fundraising & Development\, and Data leaders\, we are launching a peer group specifically for Board Members. This group will focus on skill-building\, connection\, and supportive peer learning. The first session will include an icebreaker\, facilitated conversation\, and collaborative planning to shape future session topics and structure. Board Members of all backgrounds are welcome to join and help co-create this community. \nRegister Now
URL:https://fccfoundation.org/event/community-of-practice-board-members/
CATEGORIES:Center for Nonprofit Excellence
ATTACH;FMTTYPE=image/png:https://fccfoundation.org/wp-content/uploads/2026/02/COP-Board.png
END:VEVENT
BEGIN:VEVENT
DTSTART;TZID=America/New_York:20260501T110000
DTEND;TZID=America/New_York:20260501T120000
DTSTAMP:20260422T065603
CREATED:20260223T204225Z
LAST-MODIFIED:20260223T204419Z
UID:10000596-1777633200-1777636800@fccfoundation.org
SUMMARY:Fueling Community – Sacred Grounds – Sherman
DESCRIPTION:May 1\, 11:00 AM – 12:00 PM (In-Person) \nAfter two years connecting with nonprofit leaders across almost every town in Fairfield County\, we’re finishing the journey with our northern neighbors. Join us for coffee\, snacks\, and conversation as we celebrate community connections and share ideas across Sherman. \nRegister Now
URL:https://fccfoundation.org/event/fueling-community-sacred-grounds-sherman/
LOCATION:Sacred Grounds\, 1 Route 37 East\, Unit 1\, Sherman\, 06784\, United States
CATEGORIES:Center for Nonprofit Excellence
ATTACH;FMTTYPE=image/png:https://fccfoundation.org/wp-content/uploads/2024/08/fueling-comm.png
END:VEVENT
BEGIN:VEVENT
DTSTART;TZID=America/New_York:20260501T130000
DTEND;TZID=America/New_York:20260501T140000
DTSTAMP:20260422T065603
CREATED:20260223T204903Z
LAST-MODIFIED:20260223T204903Z
UID:10000597-1777640400-1777644000@fccfoundation.org
SUMMARY:Fueling Community – Froggy’s Sandwiches – New Fairfield
DESCRIPTION:May 1\, 1:00 PM – 2:00 PM (In-Person) \nAfter two years connecting with nonprofit leaders across almost every town in Fairfield County\, we’re finishing the journey with our northern neighbors. Join us for coffee\, snacks\, and conversation as we celebrate community connections and share ideas across New Fairfield. \nRegister Now
URL:https://fccfoundation.org/event/fueling-community-froggys-sandwiches-new-fairfield/
LOCATION:Froggy’s Sandwiches\, 9 Brush Hill Rd\, New Fairfield\, CT\, 06812\, United States
CATEGORIES:Center for Nonprofit Excellence
ATTACH;FMTTYPE=image/png:https://fccfoundation.org/wp-content/uploads/2024/08/fueling-comm.png
END:VEVENT
END:VCALENDAR