BEGIN:VCALENDAR
VERSION:2.0
PRODID:-//Fairfield County&#039;s Community Foundation - ECPv6.15.3//NONSGML v1.0//EN
CALSCALE:GREGORIAN
METHOD:PUBLISH
X-WR-CALNAME:Fairfield County&#039;s Community Foundation
X-ORIGINAL-URL:https://fccfoundation.org
X-WR-CALDESC:Events for Fairfield County&#039;s Community Foundation
REFRESH-INTERVAL;VALUE=DURATION:PT1H
X-Robots-Tag:noindex
X-PUBLISHED-TTL:PT1H
BEGIN:VTIMEZONE
TZID:America/New_York
BEGIN:DAYLIGHT
TZOFFSETFROM:-0500
TZOFFSETTO:-0400
TZNAME:EDT
DTSTART:20180311T070000
END:DAYLIGHT
BEGIN:STANDARD
TZOFFSETFROM:-0400
TZOFFSETTO:-0500
TZNAME:EST
DTSTART:20181104T060000
END:STANDARD
END:VTIMEZONE
BEGIN:VEVENT
DTSTART;TZID=America/New_York:20181220T090000
DTEND;TZID=America/New_York:20181220T120000
DTSTAMP:20260424T085551
CREATED:20180618T003931Z
LAST-MODIFIED:20181113T142535Z
UID:10000380-1545296400-1545307200@fccfoundation.org
SUMMARY:Digital Marketing Series: Part 4 - Optimizing Your Digital Toolbox
DESCRIPTION:The cloud is\, a system of servers that host information on the Internet. Many use the cloud to store their data in that system. They access their information online instead of storing it on on-site. Cloud is unlocking benefits such as insight\, agility and operational efficiency that are enhancing nonprofits’ ability to help those who need it most. Attend this training\, and learn how to best make the cloud work for you. \nThis workshop is part of a four-part series intended to support nonprofits participating in Fairfield County’s Giving Day 2019. Attendees are welcome to sign up for individual workshops or the entire series here. A certificate in Nonprofit Digital Marketing will be awarded to people attending the entire series. Accredited 12 CFRE credits for Certified Fundraising Executive continuing education units. \nClick here to register. Held in partnership with the CT Community Nonprofit Alliance.
URL:https://fccfoundation.org/event/digital-marketing-series-part-4-optimizing-your-digital-toolbox/
LOCATION:Fairfield County’s Community Foundation\, 40 Richards Avenue\, Norwalk\, CT\, 06854\, United States
CATEGORIES:Center for Nonprofit Excellence,Foundation Events
ORGANIZER;CN="Katie Breslin":MAILTO:kbreslin@ctnonprofitalliance.org
END:VEVENT
BEGIN:VEVENT
DTSTART;TZID=America/New_York:20181206T090000
DTEND;TZID=America/New_York:20181206T120000
DTSTAMP:20260424T085551
CREATED:20180618T003747Z
LAST-MODIFIED:20181101T175038Z
UID:10000378-1544086800-1544097600@fccfoundation.org
SUMMARY:Digital Marketing Series: Part 3 - The ABC's of Digital Copywriting and Content Creation
DESCRIPTION:Are people bothering to listen to what your nonprofit is saying? The truth is that many nonprofits are sending out lots of communications\, but too few people are listening. In this training\, you’ll learn how to create digital content that stands out and get people to act. \nThis workshop is part of a four-part series intended to support nonprofits participating in Fairfield County’s Giving Day 2019. Attendees are welcome to sign up for individual workshops or the entire series here. A certificate in Nonprofit Digital Marketing will be awarded to people attending the entire series. Accredited 12 CFRE credits for Certified Fundraising Executive continuing education units. \nClick here to register. Held in partnership with the CT Community Nonprofit Alliance.
URL:https://fccfoundation.org/event/digital-marketing-series-part-3-the-abcs-of-digital-copywriting-and-content-creation/
LOCATION:Fairfield County’s Community Foundation\, 40 Richards Avenue\, Norwalk\, CT\, 06854\, United States
CATEGORIES:Center for Nonprofit Excellence,Foundation Events
ORGANIZER;CN="Katie Breslin":MAILTO:kbreslin@ctnonprofitalliance.org
END:VEVENT
BEGIN:VEVENT
DTSTART;TZID=America/New_York:20181115T090000
DTEND;TZID=America/New_York:20181115T120000
DTSTAMP:20260424T085551
CREATED:20180618T003616Z
LAST-MODIFIED:20181101T174929Z
UID:10000376-1542272400-1542283200@fccfoundation.org
SUMMARY:Digital Marketing Series: Part 2 - Powerful Social Networking
DESCRIPTION:Social networks are powerhouses of change and they were not invented by Facebook\, Twitter or LinkedIn!  Humankind naturally creates social networks. Nonprofits have long used the power of social networking for advocacy\, community building and fundraising. The digital age is providing new and quick ways to widely build and activate human networks. \nIn Powerful Social Networking\, you will learn: \n\nThe essential\, unchanging rules of social networks – online and offline\nHow to select the social network platforms – Facebook\, Twitter\, LinkedIn\, etc. -best for your nonprofit\nSecrets to going viral with crowdfunding and peer-to-peer fundraising\nFive things you can do immediately to become a more effective social networker\nAnd much more…\n\nThis workshop is part of a four-part series intended to support nonprofits participating in Fairfield County’s Giving Day 2019. Attendees are welcome to sign up for individual workshops or the entire series here. A certificate in Nonprofit Digital Marketing will be awarded to people attending the entire series. Accredited 12 CFRE credits for Certified Fundraising Executive continuing education units. \nClick here to register. Held in partnership with the CT Community Nonprofit Alliance.
URL:https://fccfoundation.org/event/digital-marketing-series-part-2-powerful-social-networking/
LOCATION:Fairfield County’s Community Foundation\, 40 Richards Avenue\, Norwalk\, CT\, 06854\, United States
CATEGORIES:Center for Nonprofit Excellence,Foundation Events
ORGANIZER;CN="Katie Breslin":MAILTO:kbreslin@ctnonprofitalliance.org
END:VEVENT
BEGIN:VEVENT
DTSTART;TZID=America/New_York:20181101T093000
DTEND;TZID=America/New_York:20181101T123000
DTSTAMP:20260424T085551
CREATED:20180618T003414Z
LAST-MODIFIED:20180628T151935Z
UID:10000374-1541064600-1541075400@fccfoundation.org
SUMMARY:Digital Marketing Series: Part 1 - Nonprofit Website 3.0
DESCRIPTION:This class will show you how to get the most out of the investments you’ve already made in current websites… And if you are thinking about a new or upgraded website\, this class is an absolute must. \nIn Nonprofit Website 3.0\, you will learn: \n\nThe essential principles of creating a third-generation website (websites 3.0)\nThe three critical homepage mistakes nonprofits are making\nWhy nonprofit websites are terrible for driving online donations — and what you can do about it.\nHow mobile has transformed basic elements of web design\nGetting “sticky” site traffic so that online visitors become donors\, clients and advocates\nHow to get a Google AdWords Grant to work hard bringing the right clients\, donors and advocates to your webpage.\nWhat to look for in a web designers/developer …. and to manage them now and over time.\n\nThis workshop is part of a four-part series intended to support nonprofits participating in Fairfield County’s Giving Day 2019. Attendees are welcome to sign up for individual workshops or the entire series here. A certificate in Nonprofit Digital Marketing will be awarded to people attending the entire series. Accredited 12 CFRE credits for Certified Fundraising Executive continuing education units. \nClick here to register. Held in partnership with the CT Community Nonprofit Alliance.
URL:https://fccfoundation.org/event/digital-marketing-series-part-1-nonprofit-website-3-0/
LOCATION:Fairfield County’s Community Foundation\, 40 Richards Avenue\, Norwalk\, CT\, 06854\, United States
CATEGORIES:Center for Nonprofit Excellence,Foundation Events
ORGANIZER;CN="Katie Breslin":MAILTO:kbreslin@ctnonprofitalliance.org
END:VEVENT
END:VCALENDAR